BEGIN:VCALENDAR
VERSION:2.0
PRODID:-//Plone.org//NONSGML plone.app.event//EN
X-WR-TIMEZONE:US/Eastern
BEGIN:VEVENT
SUMMARY:CLOSED
DTSTART;TZID=US/Eastern:20130527T090000
DTEND;TZID=US/Eastern:20130527T173000
DTSTAMP:20260420T081816Z
UID:8a27f13cabeae7b774dbd6e8820df794@saas_stack_varnish:6080
CREATED:20130521T174608Z
DESCRIPTION:The NBTL will be closed in observance of the Memorial Day Holi
 day
LAST-MODIFIED:20130521T174627Z
LOCATION:NBTL
URL:https://northbranch.ploud.net/news-events/lib-cal/closed-12.ics
END:VEVENT
BEGIN:VTIMEZONE
TZID:US/Eastern
X-LIC-LOCATION:US/Eastern
BEGIN:DAYLIGHT
DTSTART:20130310T030000
TZNAME:EDT
TZOFFSETFROM:-0500
TZOFFSETTO:-0400
END:DAYLIGHT
END:VTIMEZONE
END:VCALENDAR
