BEGIN:VCALENDAR
VERSION:2.0
PRODID:-//Plone.org//NONSGML plone.app.event//EN
X-WR-TIMEZONE:US/Eastern
BEGIN:VEVENT
SUMMARY:CLOSED
DTSTART;VALUE=DATE:20171225
DTEND;VALUE=DATE:20171227
DTSTAMP:20260420T185801Z
UID:89a5926f24c945be853d21fa724efeac@saas_stack_varnish:6080
CREATED:20170928T193319Z
DESCRIPTION:The NBTL will be closed for the Christmas holiday
LAST-MODIFIED:20170928T193336Z
URL:https://northbranch.ploud.net/news-events/lib-cal/closed-12
END:VEVENT
END:VCALENDAR
