BEGIN:VCALENDAR
VERSION:2.0
PRODID:-//Plone.org//NONSGML plone.app.event//EN
X-WR-TIMEZONE:US/Eastern
BEGIN:VEVENT
SUMMARY:CLOSED
DTSTART;TZID=US/Eastern:20180528T090000
DTEND;TZID=US/Eastern:20180528T170000
DTSTAMP:20260420T204058Z
UID:fc55c6aabab6445c929c750961a56053@saas_stack_varnish:6080
CREATED:20180323T142706Z
DESCRIPTION:The NBTL will be closed in observance with the Memorial Day Ho
 liday
LAST-MODIFIED:20180323T142711Z
URL:https://northbranch.ploud.net/news-events/lib-cal/closed-13
END:VEVENT
BEGIN:VTIMEZONE
TZID:US/Eastern
X-LIC-LOCATION:US/Eastern
BEGIN:DAYLIGHT
DTSTART:20180311T030000
TZNAME:EDT
TZOFFSETFROM:-0500
TZOFFSETTO:-0400
END:DAYLIGHT
END:VTIMEZONE
END:VCALENDAR
