BEGIN:VCALENDAR
VERSION:2.0
PRODID:-//Plone.org//NONSGML plone.app.event//EN
X-WR-TIMEZONE:US/Eastern
BEGIN:VEVENT
SUMMARY:CLOSED
DTSTART;VALUE=DATE:20180704
DTEND;VALUE=DATE:20180705
DTSTAMP:20260422T161141Z
UID:414d467f75b84292994ca2fa90821d44@saas_stack_varnish:6080
CREATED:20180605T191842Z
DESCRIPTION:The NBTL will be closed for the 4th of July.  Come and see us 
 at the parade.
LAST-MODIFIED:20180605T193123Z
URL:https://northbranch.ploud.net/news-events/lib-cal/closed-14
END:VEVENT
END:VCALENDAR
