BEGIN:VCALENDAR
VERSION:2.0
PRODID:-//Plone.org//NONSGML plone.app.event//EN
X-WR-TIMEZONE:US/Eastern
BEGIN:VEVENT
SUMMARY:CLOSED
DTSTART;VALUE=DATE:20180903
DTEND;VALUE=DATE:20180904
DTSTAMP:20260420T155226Z
UID:f5cd65f08b4b462283886babe9b72810@saas_stack_varnish:6080
CREATED:20180830T162531Z
LAST-MODIFIED:20180830T162537Z
URL:https://northbranch.ploud.net/news-events/lib-cal/closed-15
END:VEVENT
END:VCALENDAR
