BEGIN:VCALENDAR
VERSION:2.0
PRODID:-//Plone.org//NONSGML plone.app.event//EN
X-WR-TIMEZONE:US/Eastern
BEGIN:VEVENT
SUMMARY:CLOSED
DTSTART;TZID=US/Eastern:20181122T100000
DTEND;TZID=US/Eastern:20181123T170000
DTSTAMP:20260420T185705Z
UID:e5929ddca95b453f82d1de386f736c81@saas_stack_varnish:6080
CREATED:20180830T173406Z
DESCRIPTION:Closed for the Thanksgiving Holiday
LAST-MODIFIED:20180830T173410Z
URL:https://northbranch.ploud.net/news-events/lib-cal/closed-16
END:VEVENT
BEGIN:VTIMEZONE
TZID:US/Eastern
X-LIC-LOCATION:US/Eastern
BEGIN:STANDARD
DTSTART:20181104T010000
TZNAME:EST
TZOFFSETFROM:-0400
TZOFFSETTO:-0500
END:STANDARD
END:VTIMEZONE
END:VCALENDAR
