BEGIN:VCALENDAR
VERSION:2.0
PRODID:-//Plone.org//NONSGML plone.app.event//EN
X-WR-TIMEZONE:US/Eastern
BEGIN:VEVENT
SUMMARY:CLOSED
DTSTART;VALUE=DATE:20181224
DTEND;VALUE=DATE:20181226
DTSTAMP:20260420T140723Z
UID:c9da5ac26ad348269350ebcd83f7186c@saas_stack_varnish:6080
CREATED:20181204T151753Z
LAST-MODIFIED:20181204T151757Z
URL:https://northbranch.ploud.net/news-events/lib-cal/closed-17
END:VEVENT
END:VCALENDAR
