BEGIN:VCALENDAR
VERSION:2.0
PRODID:-//Plone.org//NONSGML plone.app.event//EN
X-WR-TIMEZONE:US/Eastern
BEGIN:VEVENT
SUMMARY:CLOSED
DTSTART;VALUE=DATE:20181231
DTEND;VALUE=DATE:20190102
DTSTAMP:20260420T140723Z
UID:68f83e1903124f1eba72f3dc10a780cc@saas_stack_varnish:6080
CREATED:20181204T151842Z
LAST-MODIFIED:20181204T151846Z
URL:https://northbranch.ploud.net/news-events/lib-cal/closed-18
END:VEVENT
END:VCALENDAR
