BEGIN:VCALENDAR
VERSION:2.0
PRODID:-//Plone.org//NONSGML plone.app.event//EN
X-WR-TIMEZONE:US/Eastern
BEGIN:VEVENT
SUMMARY:CLOSED
DTSTART;VALUE=DATE:20190704
DTEND;VALUE=DATE:20190707
DTSTAMP:20260420T105920Z
UID:1e930f7a32104e69935a031e1c0d46eb@saas_stack_varnish:6080
CREATED:20190605T160636Z
DESCRIPTION:The Library will be closed for the 4th of July
LAST-MODIFIED:20190625T152622Z
URL:https://northbranch.ploud.net/news-events/lib-cal/closed-19
END:VEVENT
END:VCALENDAR
