BEGIN:VCALENDAR
VERSION:2.0
PRODID:-//Plone.org//NONSGML plone.app.event//EN
X-WR-TIMEZONE:US/Eastern
BEGIN:VEVENT
SUMMARY:CLOSED
DTSTART;VALUE=DATE:20151126
DTEND;VALUE=DATE:20151127
DTSTAMP:20260420T162403Z
UID:906d40a914224a5693a46e2a34b180cb@saas_stack_varnish:6080
CREATED:20151029T152701Z
DESCRIPTION:The NBTL will be closed for the Thanksgiving Holiday
LAST-MODIFIED:20151029T152705Z
LOCATION:NBTL
URL:https://northbranch.ploud.net/news-events/lib-cal/closed-2
END:VEVENT
END:VCALENDAR
