BEGIN:VCALENDAR
VERSION:2.0
PRODID:-//Plone.org//NONSGML plone.app.event//EN
X-WR-TIMEZONE:US/Eastern
BEGIN:VEVENT
SUMMARY:CLOSED
DTSTART;VALUE=DATE:20191128
DTEND;VALUE=DATE:20191130
DTSTAMP:20260420T140723Z
UID:4eff5899f2ec49ca8f3f5a0951b21c90@saas_stack_varnish:6080
CREATED:20191015T203113Z
DESCRIPTION:Closed for Thanksgiving Holidays
LAST-MODIFIED:20191015T203118Z
URL:https://northbranch.ploud.net/news-events/lib-cal/closed-20
END:VEVENT
END:VCALENDAR
