BEGIN:VCALENDAR
VERSION:2.0
PRODID:-//Plone.org//NONSGML plone.app.event//EN
X-WR-TIMEZONE:US/Eastern
BEGIN:VEVENT
SUMMARY:CLOSED
DTSTART;VALUE=DATE:20191224
DTEND;VALUE=DATE:20191226
DTSTAMP:20260420T140705Z
UID:bb2cf4c43fd14e4399046de2bf104c1b@saas_stack_varnish:6080
CREATED:20191015T203926Z
DESCRIPTION:Closed for the holidays
LAST-MODIFIED:20191015T203930Z
URL:https://northbranch.ploud.net/news-events/lib-cal/closed-21
END:VEVENT
END:VCALENDAR
