BEGIN:VCALENDAR
VERSION:2.0
PRODID:-//Plone.org//NONSGML plone.app.event//EN
X-WR-TIMEZONE:US/Eastern
BEGIN:VEVENT
SUMMARY:CLOSED
DTSTART;VALUE=DATE:20191231
DTEND;VALUE=DATE:20200102
DTSTAMP:20260420T140754Z
UID:0d22fc8a6e32460783a78f6cd8a1c795@saas_stack_varnish:6080
CREATED:20191015T204037Z
DESCRIPTION:Closed for the holidays
LAST-MODIFIED:20191015T204041Z
URL:https://northbranch.ploud.net/news-events/lib-cal/closed-22
END:VEVENT
END:VCALENDAR
