BEGIN:VCALENDAR
VERSION:2.0
PRODID:-//Plone.org//NONSGML plone.app.event//EN
X-WR-TIMEZONE:US/Eastern
BEGIN:VEVENT
SUMMARY:CLOSED
DTSTART;TZID=US/Eastern:20200523T100000
DTEND;TZID=US/Eastern:20200525T170000
DTSTAMP:20260420T073050Z
UID:0f52d2756d254e9787befc7f00fe0c6a@saas_stack_varnish:6080
CREATED:20200210T180406Z
DESCRIPTION:Closed for Memorial Day
LAST-MODIFIED:20200210T180410Z
URL:https://northbranch.ploud.net/news-events/lib-cal/closed-23
END:VEVENT
BEGIN:VTIMEZONE
TZID:US/Eastern
X-LIC-LOCATION:US/Eastern
BEGIN:DAYLIGHT
DTSTART:20200308T030000
TZNAME:EDT
TZOFFSETFROM:-0500
TZOFFSETTO:-0400
END:DAYLIGHT
END:VTIMEZONE
END:VCALENDAR
