BEGIN:VCALENDAR
VERSION:2.0
PRODID:-//Plone.org//NONSGML plone.app.event//EN
X-WR-TIMEZONE:US/Eastern
BEGIN:VEVENT
SUMMARY:CLOSED
DTSTART;VALUE=DATE:20200703
DTEND;VALUE=DATE:20200705
DTSTAMP:20260420T073056Z
UID:9146c20401764f73a77acf06855ab395@saas_stack_varnish:6080
CREATED:20200210T180501Z
LAST-MODIFIED:20200210T180505Z
URL:https://northbranch.ploud.net/news-events/lib-cal/closed-24
END:VEVENT
END:VCALENDAR
