BEGIN:VCALENDAR
VERSION:2.0
PRODID:-//Plone.org//NONSGML plone.app.event//EN
X-WR-TIMEZONE:US/Eastern
BEGIN:VEVENT
SUMMARY:CLOSED
DTSTART;VALUE=DATE:20200905
DTEND;VALUE=DATE:20200908
DTSTAMP:20260420T073050Z
UID:cc3a6e62412a4dd4a155702510eab315@saas_stack_varnish:6080
CREATED:20200210T180550Z
LAST-MODIFIED:20200210T180553Z
URL:https://northbranch.ploud.net/news-events/lib-cal/closed-25
END:VEVENT
END:VCALENDAR
