BEGIN:VCALENDAR
VERSION:2.0
PRODID:-//Plone.org//NONSGML plone.app.event//EN
X-WR-TIMEZONE:US/Eastern
BEGIN:VEVENT
SUMMARY:CLOSED
DTSTART;VALUE=DATE:20201126
DTEND;VALUE=DATE:20201128
DTSTAMP:20260420T132830Z
UID:9d714beb5cd04cec9359dac0cd53d9b5@saas_stack_varnish:6080
CREATED:20200210T180845Z
LAST-MODIFIED:20200210T180848Z
URL:https://northbranch.ploud.net/news-events/lib-cal/closed-26
END:VEVENT
END:VCALENDAR
