BEGIN:VCALENDAR
VERSION:2.0
PRODID:-//Plone.org//NONSGML plone.app.event//EN
X-WR-TIMEZONE:US/Eastern
BEGIN:VEVENT
SUMMARY:CLOSED
DTSTART;VALUE=DATE:20201224
DTEND;VALUE=DATE:20201227
DTSTAMP:20260420T133200Z
UID:be7ba99315fb4078b52e971bd7aa5178@saas_stack_varnish:6080
CREATED:20200210T180935Z
LAST-MODIFIED:20200210T180942Z
URL:https://northbranch.ploud.net/news-events/lib-cal/closed-27
END:VEVENT
END:VCALENDAR
