BEGIN:VCALENDAR
VERSION:2.0
PRODID:-//Plone.org//NONSGML plone.app.event//EN
X-WR-TIMEZONE:US/Eastern
BEGIN:VEVENT
SUMMARY:CLOSED
DTSTART;VALUE=DATE:20201231
DTEND;VALUE=DATE:20210102
DTSTAMP:20260420T133017Z
UID:d4ba34c657284e98aae324046eff4373@saas_stack_varnish:6080
CREATED:20200210T181024Z
LAST-MODIFIED:20200210T181027Z
URL:https://northbranch.ploud.net/news-events/lib-cal/closed-28
END:VEVENT
END:VCALENDAR
