BEGIN:VCALENDAR
VERSION:2.0
PRODID:-//Plone.org//NONSGML plone.app.event//EN
X-WR-TIMEZONE:US/Eastern
BEGIN:VEVENT
SUMMARY:CLOSED
DTSTART;VALUE=DATE:20210403
DTEND;VALUE=DATE:20210404
DTSTAMP:20260420T121228Z
UID:0c8521c850d8445dac2d4d37ebcc245e@saas_stack_varnish:6080
CREATED:20210113T230604Z
LAST-MODIFIED:20210113T230608Z
URL:https://northbranch.ploud.net/news-events/lib-cal/closed-29
END:VEVENT
END:VCALENDAR
