BEGIN:VCALENDAR
VERSION:2.0
PRODID:-//Plone.org//NONSGML plone.app.event//EN
X-WR-TIMEZONE:US/Eastern
BEGIN:VEVENT
SUMMARY:CLOSED
DTSTART;VALUE=DATE:20210529
DTEND;VALUE=DATE:20210530
DTSTAMP:20260420T121247Z
UID:b1bc3553539a4dab981acb9d7d694aa5@saas_stack_varnish:6080
CREATED:20210113T230754Z
LAST-MODIFIED:20210113T230758Z
URL:https://northbranch.ploud.net/news-events/lib-cal/closed-31
END:VEVENT
END:VCALENDAR
