BEGIN:VCALENDAR
VERSION:2.0
PRODID:-//Plone.org//NONSGML plone.app.event//EN
X-WR-TIMEZONE:US/Eastern
BEGIN:VEVENT
SUMMARY:CLOSED
DTSTART;VALUE=DATE:20210703
DTEND;VALUE=DATE:20210706
DTSTAMP:20260420T121229Z
UID:e603668f8eeb4e5e903ddc8add36f346@saas_stack_varnish:6080
CREATED:20210113T231630Z
LAST-MODIFIED:20210616T163656Z
URL:https://northbranch.ploud.net/news-events/lib-cal/closed-33
END:VEVENT
END:VCALENDAR
