BEGIN:VCALENDAR
VERSION:2.0
PRODID:-//Plone.org//NONSGML plone.app.event//EN
X-WR-TIMEZONE:US/Eastern
BEGIN:VEVENT
SUMMARY:CLOSED
DTSTART;VALUE=DATE:20210906
DTEND;VALUE=DATE:20210907
DTSTAMP:20260420T054750Z
UID:0624717783d047a5bbbb75b3cc3926df@saas_stack_varnish:6080
CREATED:20210113T231701Z
LAST-MODIFIED:20210113T231705Z
URL:https://northbranch.ploud.net/news-events/lib-cal/closed-34
END:VEVENT
END:VCALENDAR
