BEGIN:VCALENDAR
VERSION:2.0
PRODID:-//Plone.org//NONSGML plone.app.event//EN
X-WR-TIMEZONE:US/Eastern
BEGIN:VEVENT
SUMMARY:CLOSED
DTSTART;VALUE=DATE:20210904
DTEND;VALUE=DATE:20210905
DTSTAMP:20260420T054649Z
UID:fc046d24565c435c925ccc6e19a52cb9@saas_stack_varnish:6080
CREATED:20210113T231815Z
LAST-MODIFIED:20210113T231819Z
URL:https://northbranch.ploud.net/news-events/lib-cal/closed-36
END:VEVENT
END:VCALENDAR
