BEGIN:VCALENDAR
VERSION:2.0
PRODID:-//Plone.org//NONSGML plone.app.event//EN
X-WR-TIMEZONE:US/Eastern
BEGIN:VEVENT
SUMMARY:CLOSED
DTSTART;VALUE=DATE:20210903
DTEND;VALUE=DATE:20210904
DTSTAMP:20260420T054705Z
UID:baaebb41670e4d49983711d6586dec88@saas_stack_varnish:6080
CREATED:20210113T231844Z
LAST-MODIFIED:20210113T231848Z
URL:https://northbranch.ploud.net/news-events/lib-cal/closed-37
END:VEVENT
END:VCALENDAR
