BEGIN:VCALENDAR
VERSION:2.0
PRODID:-//Plone.org//NONSGML plone.app.event//EN
X-WR-TIMEZONE:US/Eastern
BEGIN:VEVENT
SUMMARY:CLOSED
DTSTART;VALUE=DATE:20211125
DTEND;VALUE=DATE:20211127
DTSTAMP:20260420T054705Z
UID:dfbe1fe95c8e4d34887e2ccb51d70865@saas_stack_varnish:6080
CREATED:20210113T231931Z
LAST-MODIFIED:20210113T231937Z
URL:https://northbranch.ploud.net/news-events/lib-cal/closed-38
END:VEVENT
END:VCALENDAR
