BEGIN:VCALENDAR
VERSION:2.0
PRODID:-//Plone.org//NONSGML plone.app.event//EN
X-WR-TIMEZONE:US/Eastern
BEGIN:VEVENT
SUMMARY:CLOSED
DTSTART;VALUE=DATE:20211224
DTEND;VALUE=DATE:20211226
DTSTAMP:20260420T041503Z
UID:eb6bf9b51c1e4060948525c17b16fca9@saas_stack_varnish:6080
CREATED:20210113T232011Z
LAST-MODIFIED:20210113T232016Z
URL:https://northbranch.ploud.net/news-events/lib-cal/closed-39
END:VEVENT
END:VCALENDAR
