BEGIN:VCALENDAR
VERSION:2.0
PRODID:-//Plone.org//NONSGML plone.app.event//EN
X-WR-TIMEZONE:US/Eastern
BEGIN:VEVENT
SUMMARY:CLOSED 4:00PM - 5:30PM
DTSTART;TZID=US/Eastern:20120326T160000
DTEND;TZID=US/Eastern:20120326T173000
DTSTAMP:20260420T031047Z
UID:88164e0e08bd32ef54dd813b07782617@saas_stack_varnish:6080
CREATED:20120319T184313Z
DESCRIPTION:THE NBTL WILL CLOSE AT 4:00PM FOR STAFF INSERVICE
LAST-MODIFIED:20120319T184506Z
URL:https://northbranch.ploud.net/news-events/lib-cal/closed-4-00pm-5-30pm
 .ics
END:VEVENT
BEGIN:VTIMEZONE
TZID:US/Eastern
X-LIC-LOCATION:US/Eastern
BEGIN:DAYLIGHT
DTSTART:20120311T030000
TZNAME:EDT
TZOFFSETFROM:-0500
TZOFFSETTO:-0400
END:DAYLIGHT
END:VTIMEZONE
END:VCALENDAR
