BEGIN:VCALENDAR
VERSION:2.0
PRODID:-//Plone.org//NONSGML plone.app.event//EN
X-WR-TIMEZONE:US/Eastern
BEGIN:VEVENT
SUMMARY:CLOSED
DTSTART;VALUE=DATE:20151224
DTEND;VALUE=DATE:20151225
DTSTAMP:20260420T164936Z
UID:b9ad284c7215412b96a2e44307d4b2d9@saas_stack_varnish:6080
RRULE:FREQ=DAILY;UNTIL=20151226T000000
EXDATE;TZID=US/Eastern:20151226T000000
CREATED:20151029T154721Z
DESCRIPTION:The North Branch Township Library will be closed
LAST-MODIFIED:20151029T154725Z
LOCATION:NBTL
URL:https://northbranch.ploud.net/news-events/lib-cal/closed-4
END:VEVENT
END:VCALENDAR
