BEGIN:VCALENDAR
VERSION:2.0
PRODID:-//Plone.org//NONSGML plone.app.event//EN
X-WR-TIMEZONE:US/Eastern
BEGIN:VEVENT
SUMMARY:CLOSED
DTSTART;VALUE=DATE:20211231
DTEND;VALUE=DATE:20220101
DTSTAMP:20260420T041503Z
UID:b54c28dafb0740d28f846e091bdecb76@saas_stack_varnish:6080
CREATED:20210113T232048Z
LAST-MODIFIED:20210113T232051Z
URL:https://northbranch.ploud.net/news-events/lib-cal/closed-40
END:VEVENT
END:VCALENDAR
