BEGIN:VCALENDAR
VERSION:2.0
PRODID:-//Plone.org//NONSGML plone.app.event//EN
X-WR-TIMEZONE:US/Eastern
BEGIN:VEVENT
SUMMARY:CLOSED
DTSTART;VALUE=DATE:20220131
DTEND;VALUE=DATE:20220201
DTSTAMP:20260420T041751Z
UID:0f6769afc664477cb2c12c3d2846c8fc@saas_stack_varnish:6080
CREATED:20211028T181051Z
LAST-MODIFIED:20211028T181110Z
URL:https://northbranch.ploud.net/news-events/lib-cal/closed-41/2022-01-31
END:VEVENT
END:VCALENDAR
