BEGIN:VCALENDAR
VERSION:2.0
PRODID:-//Plone.org//NONSGML plone.app.event//EN
X-WR-TIMEZONE:US/Eastern
BEGIN:VEVENT
SUMMARY:CLOSED
DTSTART;VALUE=DATE:20211101
DTEND;VALUE=DATE:20211102
DTSTAMP:20260420T041429Z
UID:0f6769afc664477cb2c12c3d2846c8fc@saas_stack_varnish:6080
RRULE:FREQ=WEEKLY;UNTIL=20220502T000000;BYDAY=MO
CREATED:20211028T181051Z
LAST-MODIFIED:20211028T181110Z
URL:https://northbranch.ploud.net/news-events/lib-cal/closed-41
END:VEVENT
END:VCALENDAR
