BEGIN:VCALENDAR
VERSION:2.0
PRODID:-//Plone.org//NONSGML plone.app.event//EN
X-WR-TIMEZONE:US/Eastern
BEGIN:VEVENT
SUMMARY:CLOSED
DTSTART;TZID=US/Eastern:20220527T100000
DTEND;TZID=US/Eastern:20220530T170000
DTSTAMP:20260420T064634Z
UID:4ac75f69cd33419a95158c8ebdbe0e6a@saas_stack_varnish:6080
CREATED:20220525T184419Z
DESCRIPTION:The library will be closed for the Memorial Day Holiday
LAST-MODIFIED:20220525T184424Z
URL:https://northbranch.ploud.net/news-events/lib-cal/closed-42
END:VEVENT
BEGIN:VTIMEZONE
TZID:US/Eastern
X-LIC-LOCATION:US/Eastern
BEGIN:DAYLIGHT
DTSTART:20220313T030000
TZNAME:EDT
TZOFFSETFROM:-0500
TZOFFSETTO:-0400
END:DAYLIGHT
END:VTIMEZONE
END:VCALENDAR
