BEGIN:VCALENDAR
VERSION:2.0
PRODID:-//Plone.org//NONSGML plone.app.event//EN
X-WR-TIMEZONE:US/Eastern
BEGIN:VEVENT
SUMMARY:CLOSED
DTSTART;VALUE=DATE:20221224
DTEND;VALUE=DATE:20221227
DTSTAMP:20260419T232158Z
UID:2a0f4b0a468c4ff7b0c8b8e7b208c2df@saas_stack_varnish:6080
CREATED:20221214T172107Z
LAST-MODIFIED:20221214T172112Z
URL:https://northbranch.ploud.net/news-events/lib-cal/closed-43
END:VEVENT
END:VCALENDAR
