BEGIN:VCALENDAR
VERSION:2.0
PRODID:-//Plone.org//NONSGML plone.app.event//EN
X-WR-TIMEZONE:US/Eastern
BEGIN:VEVENT
SUMMARY:CLOSED
DTSTART;VALUE=DATE:20151231
DTEND;VALUE=DATE:20160101
DTSTAMP:20260420T165146Z
UID:f5e80ec6d86d4e6ba383c3f65cccac83@saas_stack_varnish:6080
RRULE:FREQ=DAILY;UNTIL=20160101T000000
CREATED:20151029T155415Z
DESCRIPTION:The NBTL will be closed 
LAST-MODIFIED:20151029T155420Z
LOCATION:NBTL
URL:https://northbranch.ploud.net/news-events/lib-cal/closed-5
END:VEVENT
END:VCALENDAR
