BEGIN:VCALENDAR
VERSION:2.0
PRODID:-//Plone.org//NONSGML plone.app.event//EN
X-WR-TIMEZONE:US/Eastern
BEGIN:VEVENT
SUMMARY:Closed
DTSTART;TZID=US/Eastern:20160530T100000
DTEND;TZID=US/Eastern:20160530T170000
DTSTAMP:20260420T231920Z
UID:d6e4ac67b0814cd8b007548dfd702560@saas_stack_varnish:6080
CONTACT:Kelli Lovasz\, 810-688-2282\, northbranchlibrary@northbranchlibrar
 y.net
CREATED:20160324T175043Z
DESCRIPTION:The Library will be closed for Memorial Day
LAST-MODIFIED:20160324T175046Z
LOCATION:NBTL
URL:https://northbranch.ploud.net/news-events/lib-cal/closed-6
END:VEVENT
BEGIN:VTIMEZONE
TZID:US/Eastern
X-LIC-LOCATION:US/Eastern
BEGIN:DAYLIGHT
DTSTART:20160313T030000
TZNAME:EDT
TZOFFSETFROM:-0500
TZOFFSETTO:-0400
END:DAYLIGHT
END:VTIMEZONE
END:VCALENDAR
