BEGIN:VCALENDAR
VERSION:2.0
PRODID:-//Plone.org//NONSGML plone.app.event//EN
X-WR-TIMEZONE:US/Eastern
BEGIN:VEVENT
SUMMARY:CLOSED
DTSTART;VALUE=DATE:20160704
DTEND;VALUE=DATE:20160705
DTSTAMP:20260420T201637Z
UID:86d1b0da9bbb4d8c9d18a248d83d19ab@saas_stack_varnish:6080
CREATED:20160524T152125Z
DESCRIPTION:The NBTL will be closed for the Independence Day Holiday.
LAST-MODIFIED:20160524T152131Z
URL:https://northbranch.ploud.net/news-events/lib-cal/closed-7
END:VEVENT
END:VCALENDAR
