BEGIN:VCALENDAR
VERSION:2.0
PRODID:-//Plone.org//NONSGML plone.app.event//EN
X-WR-TIMEZONE:US/Eastern
BEGIN:VEVENT
SUMMARY:CLOSED
DTSTART;VALUE=DATE:20161124
DTEND;VALUE=DATE:20161125
DTSTAMP:20260420T220819Z
UID:0eaa307def3a488cad5f6610a5d47b4a@saas_stack_varnish:6080
RRULE:FREQ=DAILY;UNTIL=20161125T000000
CREATED:20161025T145828Z
DESCRIPTION:The NBTL will be closed for the Thanksgiving Holiday
LAST-MODIFIED:20161025T145832Z
LOCATION:NBTL
URL:https://northbranch.ploud.net/news-events/lib-cal/closed-8
END:VEVENT
END:VCALENDAR
