BEGIN:VCALENDAR
VERSION:2.0
PRODID:-//Plone.org//NONSGML plone.app.event//EN
X-WR-TIMEZONE:US/Eastern
BEGIN:VEVENT
SUMMARY:CLOSED
DTSTART;TZID=US/Eastern:20170529T100000
DTEND;TZID=US/Eastern:20170529T170000
DTSTAMP:20260422T120327Z
UID:5b0fd098b83e4762a89de60956a25b22@saas_stack_varnish:6080
CREATED:20170515T192747Z
DESCRIPTION:The Library will be closed for the Memorial Day Holiday
LAST-MODIFIED:20170515T192751Z
URL:https://northbranch.ploud.net/news-events/lib-cal/closed-9
END:VEVENT
BEGIN:VTIMEZONE
TZID:US/Eastern
X-LIC-LOCATION:US/Eastern
BEGIN:DAYLIGHT
DTSTART:20170312T030000
TZNAME:EDT
TZOFFSETFROM:-0500
TZOFFSETTO:-0400
END:DAYLIGHT
END:VTIMEZONE
END:VCALENDAR
