BEGIN:VCALENDAR
VERSION:2.0
PRODID:-//Plone.org//NONSGML plone.app.event//EN
X-WR-TIMEZONE:US/Eastern
BEGIN:VEVENT
SUMMARY:Closed at 1:00pm
DTSTART;TZID=US/Eastern:20180330T130000
DTEND;TZID=US/Eastern:20180330T170000
DTSTAMP:20260420T173039Z
UID:c405ecb976c042a89239a6953b53ce7d@saas_stack_varnish:6080
CREATED:20180104T152006Z
DESCRIPTION:The NBTL will close at 1:00pm today.  We will reopen on Saturd
 ay March 31st
LAST-MODIFIED:20180104T152010Z
URL:https://northbranch.ploud.net/news-events/lib-cal/closed-at-1-00pm
END:VEVENT
BEGIN:VTIMEZONE
TZID:US/Eastern
X-LIC-LOCATION:US/Eastern
BEGIN:DAYLIGHT
DTSTART:20180311T030000
TZNAME:EDT
TZOFFSETFROM:-0500
TZOFFSETTO:-0400
END:DAYLIGHT
END:VTIMEZONE
END:VCALENDAR
