BEGIN:VCALENDAR
VERSION:2.0
PRODID:-//Plone.org//NONSGML plone.app.event//EN
X-WR-TIMEZONE:US/Eastern
BEGIN:VEVENT
SUMMARY:CLOSED FOR CLEANING
DTSTART;VALUE=DATE:20220415
DTEND;VALUE=DATE:20220419
DTSTAMP:20260420T024507Z
UID:c9ae309821ae42e08c9c507727aec99a@saas_stack_varnish:6080
CREATED:20220412T171654Z
DESCRIPTION:The NBTL will be closed for Spring Cleaning.
LAST-MODIFIED:20220412T171700Z
URL:https://northbranch.ploud.net/news-events/lib-cal/closed-for-cleaning
END:VEVENT
END:VCALENDAR
