BEGIN:VCALENDAR
VERSION:2.0
PRODID:-//Plone.org//NONSGML plone.app.event//EN
X-WR-TIMEZONE:US/Eastern
BEGIN:VEVENT
SUMMARY:CLOSED
DTSTART;VALUE=DATE:20150905
DTEND;VALUE=DATE:20150906
DTSTAMP:20260420T162403Z
UID:20229836878a4732af930420aad484f0@saas_stack_varnish:6080
CONTACT:Kelli Lovasz\, 810-688-2282\, northbranchlibrary@northbranchlibrar
 y.net
CREATED:20150901T164654Z
DESCRIPTION:The NBTL will be closed for Labor Day
LAST-MODIFIED:20150901T164701Z
LOCATION:NBTL
URL:https://northbranch.ploud.net/news-events/lib-cal/closed
END:VEVENT
END:VCALENDAR
