BEGIN:VCALENDAR
VERSION:2.0
PRODID:-//Plone.org//NONSGML plone.app.event//EN
X-WR-TIMEZONE:US/Eastern
BEGIN:VEVENT
SUMMARY:CLOSING AT 1:00PM
DTSTART;TZID=US/Eastern:20210402T130000
DTEND;TZID=US/Eastern:20210402T170000
DTSTAMP:20260420T133816Z
UID:d0ef4f92396e4a529aba24b6dc9020c4@saas_stack_varnish:6080
CREATED:20210113T230516Z
DESCRIPTION:The library will close at 1:00pm
LAST-MODIFIED:20210113T230521Z
URL:https://northbranch.ploud.net/news-events/lib-cal/closing-at-1-00pm
END:VEVENT
BEGIN:VTIMEZONE
TZID:US/Eastern
X-LIC-LOCATION:US/Eastern
BEGIN:DAYLIGHT
DTSTART:20210314T030000
TZNAME:EDT
TZOFFSETFROM:-0500
TZOFFSETTO:-0400
END:DAYLIGHT
END:VTIMEZONE
END:VCALENDAR
