BEGIN:VCALENDAR
VERSION:2.0
PRODID:-//Plone.org//NONSGML plone.app.event//EN
X-WR-TIMEZONE:US/Eastern
BEGIN:VEVENT
SUMMARY:Coloring Club
DTSTART;TZID=US/Eastern:20171009T100000
DTEND;TZID=US/Eastern:20171009T120000
DTSTAMP:20260421T003054Z
UID:ca3ffc4204fb4a4c9a63304ff5d387c2@saas_stack_varnish:6080
ATTENDEE;CN="This is an adult centered coloring club";ROLE=REQ-PARTICIPANT
 :This is an adult centered coloring club
CONTACT:Kelli Lovasz\, 810-688-2282\, northbranchlibrary@northbranchlibrar
 y.net
CREATED:20170928T151241Z
DESCRIPTION:Enjoy a relaxing morning with creativity and conversation.  We
  supply the art supplies\; crayons\, coloring books\, coloring pages\, mar
 kers\, colored pencils etc.
LAST-MODIFIED:20170928T151248Z
LOCATION:NBTL Meeting Room
URL:https://northbranch.ploud.net/news-events/lib-cal/coloring-club-1/2017
 -10-09
END:VEVENT
BEGIN:VTIMEZONE
TZID:US/Eastern
X-LIC-LOCATION:US/Eastern
BEGIN:DAYLIGHT
DTSTART:20170312T030000
TZNAME:EDT
TZOFFSETFROM:-0500
TZOFFSETTO:-0400
END:DAYLIGHT
END:VTIMEZONE
END:VCALENDAR
