BEGIN:VCALENDAR
VERSION:2.0
PRODID:-//Plone.org//NONSGML plone.app.event//EN
X-WR-TIMEZONE:US/Eastern
BEGIN:VEVENT
SUMMARY:COLORING  CLUB
DTSTART;TZID=US/Eastern:20190401T103000
DTEND;TZID=US/Eastern:20190401T120000
DTSTAMP:20260420T124955Z
UID:dece7c560baf44a8b36a09977b7b6d36@saas_stack_varnish:6080
ATTENDEE;CN="This is an adult program";ROLE=REQ-PARTICIPANT:This is an adu
 lt program
CONTACT:Pat Simmons\, 8106882282\, northbranchlibrary@northbranchlibrary.n
 et
CREATED:20190205T164328Z
DESCRIPTION:Let your inner artist free.  Join us for a relaxing morning sp
 ent being creative at our coloring club.  We provide the colored pencils\,
  coloring pages and you provide the conversation.
LAST-MODIFIED:20190205T164333Z
LOCATION:NBTL Meeting Room
URL:https://northbranch.ploud.net/news-events/lib-cal/coloring-club-2/2019
 -04-01
END:VEVENT
BEGIN:VTIMEZONE
TZID:US/Eastern
X-LIC-LOCATION:US/Eastern
BEGIN:DAYLIGHT
DTSTART:20190310T030000
TZNAME:EDT
TZOFFSETFROM:-0500
TZOFFSETTO:-0400
END:DAYLIGHT
END:VTIMEZONE
END:VCALENDAR
