BEGIN:VCALENDAR
VERSION:2.0
PRODID:-//Plone.org//NONSGML plone.app.event//EN
X-WR-TIMEZONE:US/Eastern
BEGIN:VEVENT
SUMMARY:Coloring Club
DTSTART;TZID=US/Eastern:20161221T103000
DTEND;TZID=US/Eastern:20161221T113000
DTSTAMP:20260420T223604Z
UID:d73e4ead554a4b11aac03ac07ad9555a@saas_stack_varnish:6080
CONTACT:Pat Simmons\, 810-688-2282\, northbranchlibrary@northbranchlibrary
 .net
CREATED:20161025T144459Z
DESCRIPTION:Adult Coloring Club.  Spend a morning coloring\, chatting and 
 relaxing.  This is a drop in club.  We provide all the supplies\, you prov
 ide the creativity.
LAST-MODIFIED:20161025T144504Z
LOCATION:NBTL Meeting Room
URL:https://northbranch.ploud.net/news-events/lib-cal/coloring-club/2016-1
 2-21
END:VEVENT
BEGIN:VTIMEZONE
TZID:US/Eastern
X-LIC-LOCATION:US/Eastern
BEGIN:STANDARD
DTSTART:20161106T010000
TZNAME:EST
TZOFFSETFROM:-0400
TZOFFSETTO:-0500
END:STANDARD
END:VTIMEZONE
END:VCALENDAR
