BEGIN:VCALENDAR
VERSION:2.0
PRODID:-//Plone.org//NONSGML plone.app.event//EN
X-WR-TIMEZONE:US/Eastern
BEGIN:VEVENT
SUMMARY:Coloring Club
DTSTART;TZID=US/Eastern:20161026T103000
DTEND;TZID=US/Eastern:20161026T113000
DTSTAMP:20260420T221103Z
UID:d73e4ead554a4b11aac03ac07ad9555a@saas_stack_varnish:6080
RRULE:FREQ=WEEKLY;UNTIL=20161228T000000;BYDAY=WE
EXDATE;TZID=US/Eastern:20161027T000000,20161028T000000,20161029T000000,201
 61030T000000,20161031T000000,20161101T000000
CONTACT:Pat Simmons\, 810-688-2282\, northbranchlibrary@northbranchlibrary
 .net
CREATED:20161025T144459Z
DESCRIPTION:Adult Coloring Club.  Spend a morning coloring\, chatting and 
 relaxing.  This is a drop in club.  We provide all the supplies\, you prov
 ide the creativity.
LAST-MODIFIED:20161025T144504Z
LOCATION:NBTL Meeting Room
URL:https://northbranch.ploud.net/news-events/lib-cal/coloring-club
END:VEVENT
BEGIN:VTIMEZONE
TZID:US/Eastern
X-LIC-LOCATION:US/Eastern
BEGIN:DAYLIGHT
DTSTART:20160313T030000
TZNAME:EDT
TZOFFSETFROM:-0500
TZOFFSETTO:-0400
END:DAYLIGHT
END:VTIMEZONE
END:VCALENDAR
