BEGIN:VCALENDAR
VERSION:2.0
PRODID:-//Plone.org//NONSGML plone.app.event//EN
X-WR-TIMEZONE:US/Eastern
BEGIN:VEVENT
SUMMARY:Container Gardening
DTSTART;TZID=US/Eastern:20220609T173000
DTEND;TZID=US/Eastern:20220609T190000
DTSTAMP:20260420T064653Z
UID:09c614b6dee84fdb915b95fc6d88add0@saas_stack_varnish:6080
ATTENDEE;CN="For anyone interested in improving their gardening knowledge"
 ;ROLE=REQ-PARTICIPANT:For anyone interested in improving their gardening k
 nowledge
CONTACT:Kelli Lovasz\, 810-688-2282\, northbranchlibary@northbranchlibrary
 .net
CREATED:20220525T184655Z
DESCRIPTION:Are you looking for ways to utilize your small space? Do you w
 ant to try something new in your garden?  Join our discussion as we learn 
 tips\, tricks and techniques for container gardening.
LAST-MODIFIED:20220525T184705Z
LOCATION:NBTL Meeting Room
URL:https://northbranch.ploud.net/news-events/lib-cal/container-gardening
END:VEVENT
BEGIN:VTIMEZONE
TZID:US/Eastern
X-LIC-LOCATION:US/Eastern
BEGIN:DAYLIGHT
DTSTART:20220313T030000
TZNAME:EDT
TZOFFSETFROM:-0500
TZOFFSETTO:-0400
END:DAYLIGHT
END:VTIMEZONE
END:VCALENDAR
