BEGIN:VCALENDAR
VERSION:2.0
PRODID:-//Plone.org//NONSGML plone.app.event//EN
X-WR-TIMEZONE:US/Eastern
BEGIN:VEVENT
SUMMARY:CookBook Book Club
DTSTART;TZID=US/Eastern:20160616T173000
DTEND;TZID=US/Eastern:20160616T183000
DTSTAMP:20260420T202641Z
UID:71c2f042d59d47cea013573370f91b57@saas_stack_varnish:6080
ATTENDEE;CN="Everyone welcome";ROLE=REQ-PARTICIPANT:Everyone welcome
CONTACT:Kelli Lovasz\, 810-688-2282\, northbranchlibrary@northbranchlibrar
 y.net
CREATED:20160324T172732Z
DESCRIPTION:This is an informal club where we explore our favorite cookboo
 ks\, share cooking techniques and trade recipes.  It is perfect for everyo
 ne from beginner cooks to experienced cooks.
LAST-MODIFIED:20160815T154038Z
LOCATION:NBTL Meeting Room
URL:https://northbranch.ploud.net/news-events/lib-cal/cookbook-book-club-1
 /2016-06-16
END:VEVENT
BEGIN:VTIMEZONE
TZID:US/Eastern
X-LIC-LOCATION:US/Eastern
BEGIN:DAYLIGHT
DTSTART:20160313T030000
TZNAME:EDT
TZOFFSETFROM:-0500
TZOFFSETTO:-0400
END:DAYLIGHT
END:VTIMEZONE
END:VCALENDAR
