BEGIN:VCALENDAR
VERSION:2.0
PRODID:-//Plone.org//NONSGML plone.app.event//EN
X-WR-TIMEZONE:US/Eastern
BEGIN:VEVENT
SUMMARY:COOKBOOK BOOK CLUB
DTSTART;TZID=US/Eastern:20160218T173000
DTEND;TZID=US/Eastern:20160218T183000
DTSTAMP:20260420T204937Z
UID:509cd170985040398e9907079fd2055f@saas_stack_varnish:6080
ATTENDEE;CN=adults;ROLE=REQ-PARTICIPANT:adults
CONTACT:Kelli Lovasz\, 810-688-2282\, skemlov@yahoo.com
CREATED:20160208T184654Z
DESCRIPTION:We are beginning a Cookbook Book Club.  Bring your favorite re
 cipe to share either in written form or taste-test form.  We will be discu
 ssing ideas of how to arrange the club\, what types of cookbooks to try an
 d generally just having a good time.  Call the library with questions and 
 ask for Kelli or Christi.
LAST-MODIFIED:20160208T184658Z
LOCATION:NBTL Meeting Room
URL:https://northbranch.ploud.net/news-events/lib-cal/cookbook-book-club
END:VEVENT
BEGIN:VTIMEZONE
TZID:US/Eastern
X-LIC-LOCATION:US/Eastern
BEGIN:STANDARD
DTSTART:20151101T010000
TZNAME:EST
TZOFFSETFROM:-0400
TZOFFSETTO:-0500
END:STANDARD
END:VTIMEZONE
END:VCALENDAR
